BEGIN:VCALENDAR
VERSION:2.0
PRODID:-//Balwyn Baptist Church - ECPv6.5.1.5//NONSGML v1.0//EN
CALSCALE:GREGORIAN
METHOD:PUBLISH
X-WR-CALNAME:Balwyn Baptist Church
X-ORIGINAL-URL:https://balwynbaptist.org.au
X-WR-CALDESC:Events for Balwyn Baptist Church
REFRESH-INTERVAL;VALUE=DURATION:PT1H
X-Robots-Tag:noindex
X-PUBLISHED-TTL:PT1H
BEGIN:VTIMEZONE
TZID:UTC
BEGIN:STANDARD
TZOFFSETFROM:+0000
TZOFFSETTO:+0000
TZNAME:UTC
DTSTART:20230101T000000
END:STANDARD
END:VTIMEZONE
BEGIN:VEVENT
DTSTART;TZID=UTC:20230421T080000
DTEND;TZID=UTC:20230421T110000
DTSTAMP:20260424T022803
CREATED:20230416T112423Z
LAST-MODIFIED:20230416T112425Z
UID:4698-1682064000-1682074800@balwynbaptist.org.au
SUMMARY:Young Adult
DESCRIPTION:
URL:https://balwynbaptist.org.au/event/young-adult/
CATEGORIES:Young Adult
END:VEVENT
END:VCALENDAR