BEGIN:VCALENDAR
VERSION:2.0
PRODID:-//Balwyn Baptist Church - ECPv6.5.1.5//NONSGML v1.0//EN
CALSCALE:GREGORIAN
METHOD:PUBLISH
X-WR-CALNAME:Balwyn Baptist Church
X-ORIGINAL-URL:https://balwynbaptist.org.au
X-WR-CALDESC:Events for Balwyn Baptist Church
REFRESH-INTERVAL;VALUE=DURATION:PT1H
X-Robots-Tag:noindex
X-PUBLISHED-TTL:PT1H
BEGIN:VTIMEZONE
TZID:UTC
BEGIN:STANDARD
TZOFFSETFROM:+0000
TZOFFSETTO:+0000
TZNAME:UTC
DTSTART:20210101T000000
END:STANDARD
END:VTIMEZONE
BEGIN:VEVENT
DTSTART;TZID=UTC:20210829T100000
DTEND;TZID=UTC:20210829T120000
DTSTAMP:20260425T131444
CREATED:20210807T101750Z
LAST-MODIFIED:20210807T101751Z
UID:4314-1630231200-1630238400@balwynbaptist.org.au
SUMMARY:Morning Worship
DESCRIPTION:
URL:https://balwynbaptist.org.au/event/morning-worship-4/
END:VEVENT
BEGIN:VEVENT
DTSTART;TZID=UTC:20210829T163000
DTEND;TZID=UTC:20210829T183000
DTSTAMP:20260425T131444
CREATED:20210807T101647Z
LAST-MODIFIED:20210807T101648Z
UID:4312-1630254600-1630261800@balwynbaptist.org.au
SUMMARY:SBI (Indonesian Baptist)
DESCRIPTION:
URL:https://balwynbaptist.org.au/event/sbi-indonesian-baptist-4/
END:VEVENT
END:VCALENDAR