BEGIN:VCALENDAR
VERSION:2.0
PRODID:-//Balwyn Baptist Church - ECPv6.5.1.5//NONSGML v1.0//EN
CALSCALE:GREGORIAN
METHOD:PUBLISH
X-WR-CALNAME:Balwyn Baptist Church
X-ORIGINAL-URL:https://balwynbaptist.org.au
X-WR-CALDESC:Events for Balwyn Baptist Church
REFRESH-INTERVAL;VALUE=DURATION:PT1H
X-Robots-Tag:noindex
X-PUBLISHED-TTL:PT1H
BEGIN:VTIMEZONE
TZID:UTC
BEGIN:STANDARD
TZOFFSETFROM:+0000
TZOFFSETTO:+0000
TZNAME:UTC
DTSTART:20210101T000000
END:STANDARD
END:VTIMEZONE
BEGIN:VEVENT
DTSTART;TZID=UTC:20210803T200000
DTEND;TZID=UTC:20210803T210000
DTSTAMP:20260425T131619
CREATED:20210802T123101Z
LAST-MODIFIED:20210802T123102Z
UID:4274-1628020800-1628024400@balwynbaptist.org.au
SUMMARY:Tabletennis training
DESCRIPTION:
URL:https://balwynbaptist.org.au/event/tabletennis-training/
END:VEVENT
END:VCALENDAR